BEGIN:VCALENDAR
VERSION:2.0
PRODID:-//Hypno-Lyon - ECPv5.5.0//NONSGML v1.0//EN
CALSCALE:GREGORIAN
METHOD:PUBLISH
X-WR-CALNAME:Hypno-Lyon
X-ORIGINAL-URL:http://hypno-lyon.com
X-WR-CALDESC:évènements pour Hypno-Lyon
BEGIN:VTIMEZONE
TZID:Europe/Paris
BEGIN:DAYLIGHT
TZOFFSETFROM:+0100
TZOFFSETTO:+0200
TZNAME:CEST
DTSTART:20190331T010000
END:DAYLIGHT
BEGIN:STANDARD
TZOFFSETFROM:+0200
TZOFFSETTO:+0100
TZNAME:CET
DTSTART:20191027T010000
END:STANDARD
END:VTIMEZONE
BEGIN:VEVENT
DTSTART;TZID=Europe/Paris:20191115T153000
DTEND;TZID=Europe/Paris:20191115T170000
DTSTAMP:20260421T120701
CREATED:20190826T140856Z
LAST-MODIFIED:20190826T141208Z
UID:1418-1573831800-1573837200@hypno-lyon.com
SUMMARY:Conférence sur le thème "Compulsions et addictions\, comment s'en sortir avec l'hypnotherapie" au salon Vivez nature de Lyon à Eurexpo."
DESCRIPTION:
URL:http://hypno-lyon.com/event/1418/
LOCATION:EUREXPO\, Boulevard de l’Europe\, CHASSIEU\, 69686\, France
END:VEVENT
END:VCALENDAR